BEGIN:VCALENDAR
VERSION:2.0
PRODID:-//lincolnikes.com//NONSGML kigkonsult.se iCalcreator 2.30.10//
CALSCALE:GREGORIAN
METHOD:PUBLISH
UID:1884786f-7053-42dc-9356-f3b45ea9d9c1
X-WR-CALDESC:
X-WR-RELCALID:8f8296a6a34616da573106275bf01030
X-WR-TIMEZONE:America/Chicago
BEGIN:VTIMEZONE
TZID:America/Chicago
BEGIN:STANDARD
TZNAME:CST
DTSTART:20211107T020000
TZOFFSETFROM:-0500
TZOFFSETTO:-0600
RDATE:20221106T020000
RDATE:20231105T020000
END:STANDARD
BEGIN:DAYLIGHT
TZNAME:CDT
DTSTART:20220313T020000
TZOFFSETFROM:-0600
TZOFFSETTO:-0500
RDATE:20230312T020000
END:DAYLIGHT
END:VTIMEZONE
BEGIN:VEVENT
UID:2b3ea935-ae5d-4465-b42b-7741827d0952
DTSTAMP:20260425T025804Z
DESCRIPTION:
DTSTART;TZID=America/Chicago:20220702T080000
DTEND;TZID=America/Chicago:20220702T140000
LOCATION:
SUMMARY:Club Benchrest 300-Yard (Range 4) (Dewey)
END:VEVENT
END:VCALENDAR
