BEGIN:VCALENDAR
VERSION:2.0
PRODID:-//lincolnikes.com//NONSGML kigkonsult.se iCalcreator 2.30.10//
CALSCALE:GREGORIAN
METHOD:PUBLISH
UID:9d6f871c-a603-4ec3-b823-8595ce3e774f
X-WR-CALDESC:*Range 4 is only open to our members during these special sche
 duled times.
X-WR-RELCALID:62daf07e018dd9583f8b651ce7e758a8
X-WR-TIMEZONE:America/Chicago
BEGIN:VTIMEZONE
TZID:America/Chicago
BEGIN:STANDARD
TZNAME:CST
DTSTART:20211107T020000
TZOFFSETFROM:-0500
TZOFFSETTO:-0600
RDATE:20221106T020000
RDATE:20231105T020000
END:STANDARD
BEGIN:DAYLIGHT
TZNAME:CDT
DTSTART:20220313T020000
TZOFFSETFROM:-0600
TZOFFSETTO:-0500
RDATE:20230312T020000
END:DAYLIGHT
END:VTIMEZONE
BEGIN:VEVENT
UID:d244164b-0aaa-436a-8927-6b471add2db2
DTSTAMP:20260425T025550Z
DESCRIPTION:*Range 4 is only open to our members during these special sched
 uled times.
DTSTART;TZID=America/Chicago:20220703T170000
DTEND;TZID=America/Chicago:20220703T210000
LOCATION:Lincoln Ikes Rifle Range 4
SUMMARY:Members 300-Yard Range Practice (Range 4) (Lonkoski)
END:VEVENT
END:VCALENDAR
