BEGIN:VCALENDAR
VERSION:2.0
PRODID:-//lincolnikes.com//NONSGML kigkonsult.se iCalcreator 2.30.10//
CALSCALE:GREGORIAN
METHOD:PUBLISH
UID:ca7f24e8-ea96-42ff-8099-f391a54c9c64
X-WR-CALDESC:
X-WR-RELCALID:802c4ebf0121cdcb215aa01ed3f00062
X-WR-TIMEZONE:America/Chicago
BEGIN:VTIMEZONE
TZID:America/Chicago
BEGIN:STANDARD
TZNAME:CST
DTSTART:20211107T020000
TZOFFSETFROM:-0500
TZOFFSETTO:-0600
RDATE:20221106T020000
RDATE:20231105T020000
END:STANDARD
BEGIN:DAYLIGHT
TZNAME:CDT
DTSTART:20220313T020000
TZOFFSETFROM:-0600
TZOFFSETTO:-0500
RDATE:20230312T020000
END:DAYLIGHT
END:VTIMEZONE
BEGIN:VEVENT
UID:c6c6d4a6-65d5-4c0f-9e8a-877b749ce5d5
DTSTAMP:20260425T025653Z
DESCRIPTION:
DTSTART;TZID=America/Chicago:20220705T173000
DTEND;TZID=America/Chicago:20220705T203000
LOCATION:
SUMMARY:5:30-8:30p: Members 300-Yard Range Practice (Range 4 - Bertram)
END:VEVENT
END:VCALENDAR
