BEGIN:VCALENDAR
VERSION:2.0
PRODID:-//lincolnikes.com//NONSGML kigkonsult.se iCalcreator 2.30.10//
CALSCALE:GREGORIAN
METHOD:PUBLISH
UID:16368cce-c6bf-4724-97d5-59773d15d83f
X-WR-CALDESC:
X-WR-RELCALID:ceea03423e747c39e9edde8f84c821b8
X-WR-TIMEZONE:America/Chicago
BEGIN:VTIMEZONE
TZID:America/Chicago
BEGIN:STANDARD
TZNAME:CST
DTSTART:20211107T020000
TZOFFSETFROM:-0500
TZOFFSETTO:-0600
RDATE:20221106T020000
RDATE:20231105T020000
END:STANDARD
BEGIN:DAYLIGHT
TZNAME:CDT
DTSTART:20220313T020000
TZOFFSETFROM:-0600
TZOFFSETTO:-0500
RDATE:20230312T020000
END:DAYLIGHT
END:VTIMEZONE
BEGIN:VEVENT
UID:7adce953-0da9-4cd0-abb4-6ec683094b01
DTSTAMP:20260425T025453Z
DESCRIPTION:
DTSTART;TZID=America/Chicago:20220708T180000
DTEND;TZID=America/Chicago:20220708T210000
LOCATION:Lincoln Ikes Rifle Range 4
SUMMARY:Bowling Pin Match (Range 4) (Bennett)
END:VEVENT
END:VCALENDAR
