BEGIN:VCALENDAR
VERSION:2.0
PRODID:-//lincolnikes.com//NONSGML kigkonsult.se iCalcreator 2.30.10//
CALSCALE:GREGORIAN
METHOD:PUBLISH
UID:9545d79b-b2a0-490d-bf4b-c03dfe13f844
X-WR-CALDESC:
X-WR-RELCALID:f74bbead24aefcb6f4c9f8544c283d71
X-WR-TIMEZONE:America/Chicago
BEGIN:VTIMEZONE
TZID:America/Chicago
BEGIN:STANDARD
TZNAME:CST
DTSTART:20211107T020000
TZOFFSETFROM:-0500
TZOFFSETTO:-0600
RDATE:20221106T020000
RDATE:20231105T020000
END:STANDARD
BEGIN:DAYLIGHT
TZNAME:CDT
DTSTART:20220313T020000
TZOFFSETFROM:-0600
TZOFFSETTO:-0500
RDATE:20230312T020000
END:DAYLIGHT
END:VTIMEZONE
BEGIN:VEVENT
UID:4ef2bd3e-44ca-4e5f-a901-639cf7291c0a
DTSTAMP:20260425T025711Z
DESCRIPTION:
DTSTART;TZID=America/Chicago:20220709T090000
DTEND;TZID=America/Chicago:20220709T110000
LOCATION:Lincoln Ikes Rifle Range 4
SUMMARY:CMP Rimfire Sporter Rifle (Range 4) (Lesiak)
END:VEVENT
END:VCALENDAR
