BEGIN:VCALENDAR
VERSION:2.0
PRODID:-//lincolnikes.com//NONSGML kigkonsult.se iCalcreator 2.30.10//
CALSCALE:GREGORIAN
METHOD:PUBLISH
UID:7902ed09-62c1-49e8-b8d6-0e9d42763125
X-WR-CALDESC:More information to follow. Stay tuned!
X-WR-RELCALID:d0e61f2f1bac37a7a3139cc63def0f7a
X-WR-TIMEZONE:America/Chicago
BEGIN:VTIMEZONE
TZID:America/Chicago
BEGIN:STANDARD
TZNAME:CST
DTSTART:20211107T020000
TZOFFSETFROM:-0500
TZOFFSETTO:-0600
RDATE:20221106T020000
RDATE:20231105T020000
END:STANDARD
BEGIN:DAYLIGHT
TZNAME:CDT
DTSTART:20220313T020000
TZOFFSETFROM:-0600
TZOFFSETTO:-0500
RDATE:20230312T020000
END:DAYLIGHT
END:VTIMEZONE
BEGIN:VEVENT
UID:63656591-7f8c-47f8-b03f-7c2daefbeff7
DTSTAMP:20260425T030141Z
DESCRIPTION:More information to follow. Stay tuned!
DTSTART;TZID=America/Chicago:20220711T180000
DTEND;TZID=America/Chicago:20220711T193000
LOCATION:Lincoln Ikes Clubhouse & Trap Range
SUMMARY:Youth Summer Trap League Awards Banquet
END:VEVENT
END:VCALENDAR
