BEGIN:VCALENDAR
VERSION:2.0
PRODID:-//lincolnikes.com//NONSGML kigkonsult.se iCalcreator 2.30.10//
CALSCALE:GREGORIAN
METHOD:PUBLISH
UID:b5ce3cdc-62ec-4d57-997f-d765c0836b5c
X-WR-CALDESC:*Range 4 is only open to our members during these special sche
 duled times.
X-WR-RELCALID:b88bedfbce99faf0ab22f421e4464038
X-WR-TIMEZONE:America/Chicago
BEGIN:VTIMEZONE
TZID:America/Chicago
BEGIN:STANDARD
TZNAME:CST
DTSTART:20211107T020000
TZOFFSETFROM:-0500
TZOFFSETTO:-0600
RDATE:20221106T020000
RDATE:20231105T020000
END:STANDARD
BEGIN:DAYLIGHT
TZNAME:CDT
DTSTART:20220313T020000
TZOFFSETFROM:-0600
TZOFFSETTO:-0500
RDATE:20230312T020000
END:DAYLIGHT
END:VTIMEZONE
BEGIN:VEVENT
UID:5da3be91-dfa4-4f96-91ab-d0d9e3be8392
DTSTAMP:20260425T025545Z
DESCRIPTION:*Range 4 is only open to our members during these special sched
 uled times.
DTSTART;TZID=America/Chicago:20220713T130000
DTEND;TZID=America/Chicago:20220713T160000
LOCATION:Lincoln Ikes Rifle Range 4
SUMMARY:Members 300-Yard Range Practice (Range 4) (Hanson)
END:VEVENT
END:VCALENDAR
