BEGIN:VCALENDAR
VERSION:2.0
PRODID:-//lincolnikes.com//NONSGML kigkonsult.se iCalcreator 2.30.10//
CALSCALE:GREGORIAN
METHOD:PUBLISH
UID:76712b5d-f5f0-4cb7-8505-bd13bba39011
X-WR-CALDESC:Thursdays\, May 19th to August 25th\nFor more information\, se
 e attached flyer
X-WR-RELCALID:e087d2404303cc1b7f6d2bf04ceea9c8
X-WR-TIMEZONE:America/Chicago
BEGIN:VTIMEZONE
TZID:America/Chicago
BEGIN:STANDARD
TZNAME:CST
DTSTART:20211107T020000
TZOFFSETFROM:-0500
TZOFFSETTO:-0600
RDATE:20221106T020000
RDATE:20231105T020000
END:STANDARD
BEGIN:DAYLIGHT
TZNAME:CDT
DTSTART:20220313T020000
TZOFFSETFROM:-0600
TZOFFSETTO:-0500
RDATE:20230312T020000
END:DAYLIGHT
END:VTIMEZONE
BEGIN:VEVENT
UID:3d3c93c9-4c7c-429d-8b87-5f6b4fcd5157
DTSTAMP:20260425T030008Z
DESCRIPTION:Thursdays\, May 19th to August 25th\nFor more information\, see
  attached flyer
DTSTART;TZID=America/Chicago:20220714T180000
DTEND;TZID=America/Chicago:20220714T200000
LOCATION:Lincoln Ikes Rifle Range 4
SUMMARY:.22 Youth Silhouettes (Range 4)
END:VEVENT
END:VCALENDAR
