BEGIN:VCALENDAR
VERSION:2.0
PRODID:-//lincolnikes.com//NONSGML kigkonsult.se iCalcreator 2.30.10//
CALSCALE:GREGORIAN
METHOD:PUBLISH
UID:60e34a3a-e626-4768-8cdd-5c84d20abaf0
X-WR-CALDESC:
X-WR-RELCALID:b2ddc3b78ec04a268e0098da056f172d
X-WR-TIMEZONE:America/Chicago
BEGIN:VTIMEZONE
TZID:America/Chicago
BEGIN:STANDARD
TZNAME:CST
DTSTART:20211107T020000
TZOFFSETFROM:-0500
TZOFFSETTO:-0600
RDATE:20221106T020000
RDATE:20231105T020000
END:STANDARD
BEGIN:DAYLIGHT
TZNAME:CDT
DTSTART:20220313T020000
TZOFFSETFROM:-0600
TZOFFSETTO:-0500
RDATE:20230312T020000
END:DAYLIGHT
END:VTIMEZONE
BEGIN:VEVENT
UID:f145de28-54f5-44e2-952c-7b135c683b7b
DTSTAMP:20260425T025652Z
DESCRIPTION:
DTSTART;TZID=America/Chicago:20220719T173000
DTEND;TZID=America/Chicago:20220719T203000
LOCATION:
SUMMARY:5:30-8:30p: Members 300-Yard Range Practice (Range 4 - Bertram)
END:VEVENT
END:VCALENDAR
