BEGIN:VCALENDAR
VERSION:2.0
PRODID:-//lincolnikes.com//NONSGML kigkonsult.se iCalcreator 2.30.10//
CALSCALE:GREGORIAN
METHOD:PUBLISH
UID:07b440b0-f9e3-4ebf-b349-cdf7246a79e5
X-WR-CALDESC:
X-WR-RELCALID:06abcd22cd994c7f544e3023582a67ee
X-WR-TIMEZONE:America/Chicago
BEGIN:VTIMEZONE
TZID:America/Chicago
BEGIN:STANDARD
TZNAME:CST
DTSTART:20211107T020000
TZOFFSETFROM:-0500
TZOFFSETTO:-0600
RDATE:20221106T020000
RDATE:20231105T020000
END:STANDARD
BEGIN:DAYLIGHT
TZNAME:CDT
DTSTART:20220313T020000
TZOFFSETFROM:-0600
TZOFFSETTO:-0500
RDATE:20230312T020000
END:DAYLIGHT
END:VTIMEZONE
BEGIN:VEVENT
UID:90ea0366-f417-43dd-8e15-5190dc913216
DTSTAMP:20260425T025953Z
DESCRIPTION:
DTSTART;TZID=America/Chicago:20220719T000000
DTEND;TZID=America/Chicago:20220722T235900
LOCATION:Embassy Suites\, East Peoria\, IL
SUMMARY:2022 Izaak Walton League National Convention
END:VEVENT
END:VCALENDAR
