BEGIN:VCALENDAR
VERSION:2.0
PRODID:-//lincolnikes.com//NONSGML kigkonsult.se iCalcreator 2.30.10//
CALSCALE:GREGORIAN
METHOD:PUBLISH
UID:02066663-fd0a-4932-9528-96fbf0b98131
X-WR-CALDESC:
X-WR-RELCALID:eb670db5f18adc12cbc9115a99c98f4a
X-WR-TIMEZONE:America/Chicago
BEGIN:VTIMEZONE
TZID:America/Chicago
BEGIN:STANDARD
TZNAME:CST
DTSTART:20211107T020000
TZOFFSETFROM:-0500
TZOFFSETTO:-0600
RDATE:20221106T020000
RDATE:20231105T020000
END:STANDARD
BEGIN:DAYLIGHT
TZNAME:CDT
DTSTART:20220313T020000
TZOFFSETFROM:-0600
TZOFFSETTO:-0500
RDATE:20230312T020000
END:DAYLIGHT
END:VTIMEZONE
BEGIN:VEVENT
UID:1a9b5831-e06a-4975-999b-eb6dd8d1d4ec
DTSTAMP:20260425T025620Z
DESCRIPTION:
DTSTART;TZID=America/Chicago:20220726T173000
DTEND;TZID=America/Chicago:20220726T203000
LOCATION:
SUMMARY:5:30-8:30p: Members 300-Yard Range Practice (Range 4 - Bertram)
END:VEVENT
END:VCALENDAR
