BEGIN:VCALENDAR
VERSION:2.0
PRODID:-//lincolnikes.com//NONSGML kigkonsult.se iCalcreator 2.30.10//
CALSCALE:GREGORIAN
METHOD:PUBLISH
UID:dc87a960-f27e-441e-9f6d-21c059e9c7f7
X-WR-CALDESC:
X-WR-RELCALID:d1e7129beeb8f531f7622d1d53519283
X-WR-TIMEZONE:America/Chicago
BEGIN:VTIMEZONE
TZID:America/Chicago
BEGIN:STANDARD
TZNAME:CST
DTSTART:20211107T020000
TZOFFSETFROM:-0500
TZOFFSETTO:-0600
RDATE:20221106T020000
RDATE:20231105T020000
END:STANDARD
BEGIN:DAYLIGHT
TZNAME:CDT
DTSTART:20220313T020000
TZOFFSETFROM:-0600
TZOFFSETTO:-0500
RDATE:20230312T020000
END:DAYLIGHT
END:VTIMEZONE
BEGIN:VEVENT
UID:6c7fa27b-d098-4fcb-965c-b6ad80babd86
DTSTAMP:20260420T190625Z
DESCRIPTION:
DTSTART;TZID=America/Chicago:20220727T190000
DTEND;TZID=America/Chicago:20220727T200000
LOCATION:
SUMMARY:Rifle/Pistol Committee Meeting (Clubhouse)
END:VEVENT
END:VCALENDAR
