BEGIN:VCALENDAR
VERSION:2.0
PRODID:-//lincolnikes.com//NONSGML kigkonsult.se iCalcreator 2.30.10//
CALSCALE:GREGORIAN
METHOD:PUBLISH
UID:af6c35a4-2e19-47e4-b402-99f0626da18a
X-WR-CALDESC:
X-WR-RELCALID:11797b6da0ee7870df5e04f4e4150b5c
X-WR-TIMEZONE:America/Chicago
BEGIN:VTIMEZONE
TZID:America/Chicago
BEGIN:STANDARD
TZNAME:CST
DTSTART:20211107T020000
TZOFFSETFROM:-0500
TZOFFSETTO:-0600
RDATE:20221106T020000
RDATE:20231105T020000
END:STANDARD
BEGIN:DAYLIGHT
TZNAME:CDT
DTSTART:20220313T020000
TZOFFSETFROM:-0600
TZOFFSETTO:-0500
RDATE:20230312T020000
END:DAYLIGHT
END:VTIMEZONE
BEGIN:VEVENT
UID:87958830-fa84-403b-821e-d8bc17221b9c
DTSTAMP:20260425T030039Z
DESCRIPTION:
DTSTART;TZID=America/Chicago:20220730T070000
DTEND;TZID=America/Chicago:20220730T150000
LOCATION:Lincoln Ikes Rifle Ranges 1 & 4
SUMMARY:UML 2-Gun Competition (Ranges 1 & 4) (Zunaibi)
END:VEVENT
END:VCALENDAR
