BEGIN:VCALENDAR
VERSION:2.0
PRODID:-//lincolnikes.com//NONSGML kigkonsult.se iCalcreator 2.30.10//
CALSCALE:GREGORIAN
METHOD:PUBLISH
UID:79c3d997-0c07-4ce0-8ce7-fcd5b200ed86
X-WR-CALDESC:
X-WR-RELCALID:18b85ec9cff450cc4a6f8bd4772a5a11
X-WR-TIMEZONE:America/Chicago
BEGIN:VTIMEZONE
TZID:America/Chicago
BEGIN:STANDARD
TZNAME:CST
DTSTART:20211107T020000
TZOFFSETFROM:-0500
TZOFFSETTO:-0600
RDATE:20221106T020000
RDATE:20231105T020000
END:STANDARD
BEGIN:DAYLIGHT
TZNAME:CDT
DTSTART:20220313T020000
TZOFFSETFROM:-0600
TZOFFSETTO:-0500
RDATE:20230312T020000
END:DAYLIGHT
END:VTIMEZONE
BEGIN:VEVENT
UID:cd1cfa4e-94a7-4700-9832-7d32b8800209
DTSTAMP:20260422T073200Z
DESCRIPTION:
DTSTART;TZID=America/Chicago:20220802T173000
DTEND;TZID=America/Chicago:20220802T203000
LOCATION:
SUMMARY:5:30-8:30p: Members 300-Yard Range Practice (Range 4 - Bertram)
END:VEVENT
END:VCALENDAR
