BEGIN:VCALENDAR
VERSION:2.0
PRODID:-//lincolnikes.com//NONSGML kigkonsult.se iCalcreator 2.30.10//
CALSCALE:GREGORIAN
METHOD:PUBLISH
UID:ce9c7186-8dd6-40dd-882b-397c34bc99bf
X-WR-CALDESC:
X-WR-RELCALID:6dabf709b7fadb408ea25e7efc750e01
X-WR-TIMEZONE:America/Chicago
BEGIN:VTIMEZONE
TZID:America/Chicago
BEGIN:STANDARD
TZNAME:CST
DTSTART:20211107T020000
TZOFFSETFROM:-0500
TZOFFSETTO:-0600
RDATE:20221106T020000
RDATE:20231105T020000
END:STANDARD
BEGIN:DAYLIGHT
TZNAME:CDT
DTSTART:20220313T020000
TZOFFSETFROM:-0600
TZOFFSETTO:-0500
RDATE:20230312T020000
END:DAYLIGHT
END:VTIMEZONE
BEGIN:VEVENT
UID:3ecd07b2-1215-4958-a8a9-9588fc123a2c
DTSTAMP:20260422T073354Z
DESCRIPTION:
DTSTART;TZID=America/Chicago:20220806T080000
DTEND;TZID=America/Chicago:20220806T140000
LOCATION:
SUMMARY:Club Benchrest 300-Yard (Range 4) (Dewey)
END:VEVENT
END:VCALENDAR
