BEGIN:VCALENDAR
VERSION:2.0
PRODID:-//lincolnikes.com//NONSGML kigkonsult.se iCalcreator 2.30.10//
CALSCALE:GREGORIAN
METHOD:PUBLISH
UID:37d6b3bf-b9ec-4373-bd75-27d77d315072
X-WR-CALDESC:Thursdays\, May 19th to August 25th\nFor more information\, se
 e attached flyer
X-WR-RELCALID:202bad609e4bd014f8c85c6bd7344fba
X-WR-TIMEZONE:America/Chicago
BEGIN:VTIMEZONE
TZID:America/Chicago
BEGIN:STANDARD
TZNAME:CST
DTSTART:20211107T020000
TZOFFSETFROM:-0500
TZOFFSETTO:-0600
RDATE:20221106T020000
RDATE:20231105T020000
END:STANDARD
BEGIN:DAYLIGHT
TZNAME:CDT
DTSTART:20220313T020000
TZOFFSETFROM:-0600
TZOFFSETTO:-0500
RDATE:20230312T020000
END:DAYLIGHT
END:VTIMEZONE
BEGIN:VEVENT
UID:821ca760-b3de-4895-b6a1-39028eb43eff
DTSTAMP:20260422T073430Z
DESCRIPTION:Thursdays\, May 19th to August 25th\nFor more information\, see
  attached flyer
DTSTART;TZID=America/Chicago:20220811T180000
DTEND;TZID=America/Chicago:20220811T200000
LOCATION:Lincoln Ikes Rifle Range 4
SUMMARY:.22 Youth Silhouettes (Range 4)
END:VEVENT
END:VCALENDAR
