BEGIN:VCALENDAR
VERSION:2.0
PRODID:-//lincolnikes.com//NONSGML kigkonsult.se iCalcreator 2.30.10//
CALSCALE:GREGORIAN
METHOD:PUBLISH
UID:d1a55905-9c99-4c55-959f-b17a7c6b4bf7
X-WR-CALDESC:
X-WR-RELCALID:b52da692733eec0aa145f3d20616b2d7
X-WR-TIMEZONE:America/Chicago
BEGIN:VTIMEZONE
TZID:America/Chicago
BEGIN:STANDARD
TZNAME:CST
DTSTART:20211107T020000
TZOFFSETFROM:-0500
TZOFFSETTO:-0600
RDATE:20221106T020000
RDATE:20231105T020000
END:STANDARD
BEGIN:DAYLIGHT
TZNAME:CDT
DTSTART:20220313T020000
TZOFFSETFROM:-0600
TZOFFSETTO:-0500
RDATE:20230312T020000
END:DAYLIGHT
END:VTIMEZONE
BEGIN:VEVENT
UID:d33834ed-437c-41dc-8c17-336f717aadd3
DTSTAMP:20260422T073212Z
DESCRIPTION:
DTSTART;TZID=America/Chicago:20220813T090000
DTEND;TZID=America/Chicago:20220813T110000
LOCATION:Lincoln Ikes Rifle Range 4
SUMMARY:CMP Rimfire Sporter Rifle (Range 4) (Lesiak)
END:VEVENT
END:VCALENDAR
