BEGIN:VCALENDAR
VERSION:2.0
PRODID:-//lincolnikes.com//NONSGML kigkonsult.se iCalcreator 2.30.10//
CALSCALE:GREGORIAN
METHOD:PUBLISH
UID:a06e6b7d-d0a2-41f8-9d9e-122d7dfbbf9b
X-WR-CALDESC:
X-WR-RELCALID:4f6a4cc553c2e61d7417e72bc8c1709e
X-WR-TIMEZONE:America/Chicago
BEGIN:VTIMEZONE
TZID:America/Chicago
BEGIN:STANDARD
TZNAME:CST
DTSTART:20211107T020000
TZOFFSETFROM:-0500
TZOFFSETTO:-0600
RDATE:20221106T020000
RDATE:20231105T020000
END:STANDARD
BEGIN:DAYLIGHT
TZNAME:CDT
DTSTART:20220313T020000
TZOFFSETFROM:-0600
TZOFFSETTO:-0500
RDATE:20230312T020000
END:DAYLIGHT
END:VTIMEZONE
BEGIN:VEVENT
UID:241797d0-dadc-44cc-9dcd-500f45e701f5
DTSTAMP:20260421T094701Z
DESCRIPTION:
DTSTART;TZID=America/Chicago:20220816T173000
DTEND;TZID=America/Chicago:20220816T202000
LOCATION:
SUMMARY:5:30-Sunset: Members 300-Yard Range Practice (Range 4 - Bertram)
END:VEVENT
END:VCALENDAR
