BEGIN:VCALENDAR
VERSION:2.0
PRODID:-//lincolnikes.com//NONSGML kigkonsult.se iCalcreator 2.30.10//
CALSCALE:GREGORIAN
METHOD:PUBLISH
UID:8480460f-6fc4-42f1-b9ba-ad7b6ecb2a76
X-WR-CALDESC:Hosted by Prairie Bowmen \nCan shoot either day.\nLunch will b
 e available.\nCost is $20 for adults and young adults\; $15 for youth and 
 cubs\nOpen to everyone - Need not be a state member to shoot.
X-WR-RELCALID:62aa2d8addb4a3cb863c8ca33d598fca
X-WR-TIMEZONE:America/Chicago
BEGIN:VTIMEZONE
TZID:America/Chicago
BEGIN:STANDARD
TZNAME:CST
DTSTART:20211107T020000
TZOFFSETFROM:-0500
TZOFFSETTO:-0600
RDATE:20221106T020000
RDATE:20231105T020000
END:STANDARD
BEGIN:DAYLIGHT
TZNAME:CDT
DTSTART:20220313T020000
TZOFFSETFROM:-0600
TZOFFSETTO:-0500
RDATE:20230312T020000
END:DAYLIGHT
END:VTIMEZONE
BEGIN:VEVENT
UID:8664cad8-6fd4-45e9-bd5c-6ba7073bde24
DTSTAMP:20260422T073043Z
DESCRIPTION:Hosted by Prairie Bowmen \nCan shoot either day.\nLunch will be
  available.\nCost is $20 for adults and young adults\; $15 for youth and c
 ubs\nOpen to everyone - Need not be a state member to shoot.
DTSTART;TZID=America/Chicago:20220820T080000
DTEND;TZID=America/Chicago:20220820T140000
LOCATION:Lincoln Ikes - near Youth Pond
SUMMARY:Nebraska State Marked 3D Archery Event
END:VEVENT
END:VCALENDAR
