BEGIN:VCALENDAR
VERSION:2.0
PRODID:-//lincolnikes.com//NONSGML kigkonsult.se iCalcreator 2.30.10//
CALSCALE:GREGORIAN
METHOD:PUBLISH
UID:de66ce7a-0fed-418f-a5f2-a717cf2eb105
X-WR-CALDESC:Hosted by Prairie Bowmen \nCan shoot either day.\nLunch will b
 e available.\nCost is $20 for adults and young adults\; $15 for youth and 
 cubs\nOpen to everyone - Need not be a state member to shoot.
X-WR-RELCALID:2674819f169e783452614b52777ff49b
X-WR-TIMEZONE:America/Chicago
BEGIN:VTIMEZONE
TZID:America/Chicago
BEGIN:STANDARD
TZNAME:CST
DTSTART:20211107T020000
TZOFFSETFROM:-0500
TZOFFSETTO:-0600
RDATE:20221106T020000
RDATE:20231105T020000
END:STANDARD
BEGIN:DAYLIGHT
TZNAME:CDT
DTSTART:20220313T020000
TZOFFSETFROM:-0600
TZOFFSETTO:-0500
RDATE:20230312T020000
END:DAYLIGHT
END:VTIMEZONE
BEGIN:VEVENT
UID:d61f248d-db7a-49ad-9001-b7d1ae99b362
DTSTAMP:20260422T073044Z
DESCRIPTION:Hosted by Prairie Bowmen \nCan shoot either day.\nLunch will be
  available.\nCost is $20 for adults and young adults\; $15 for youth and c
 ubs\nOpen to everyone - Need not be a state member to shoot.
DTSTART;TZID=America/Chicago:20220821T080000
DTEND;TZID=America/Chicago:20220821T140000
LOCATION:Lincoln Ikes - near Youth Pond
SUMMARY:Nebraska State Marked 3D Archery Event
END:VEVENT
END:VCALENDAR
