BEGIN:VCALENDAR
VERSION:2.0
PRODID:-//lincolnikes.com//NONSGML kigkonsult.se iCalcreator 2.30.10//
CALSCALE:GREGORIAN
METHOD:PUBLISH
UID:a71cc175-cd9c-46a2-8eaf-5309d876210c
X-WR-CALDESC:
X-WR-RELCALID:68f93f4b1d4dc9743048d2c4e1c8b125
X-WR-TIMEZONE:America/Chicago
BEGIN:VTIMEZONE
TZID:America/Chicago
BEGIN:STANDARD
TZNAME:CST
DTSTART:20211107T020000
TZOFFSETFROM:-0500
TZOFFSETTO:-0600
RDATE:20221106T020000
RDATE:20231105T020000
END:STANDARD
BEGIN:DAYLIGHT
TZNAME:CDT
DTSTART:20220313T020000
TZOFFSETFROM:-0600
TZOFFSETTO:-0500
RDATE:20230312T020000
END:DAYLIGHT
END:VTIMEZONE
BEGIN:VEVENT
UID:1330c7a9-a0fe-4cb3-a5c3-590e9248d000
DTSTAMP:20260419T124804Z
DESCRIPTION:
DTSTART;TZID=America/Chicago:20220823T173000
DTEND;TZID=America/Chicago:20220823T201000
LOCATION:
SUMMARY:5:30-Sunset: Members 300-Yard Range Practice (Range 4 - Bertram)
END:VEVENT
END:VCALENDAR
