BEGIN:VCALENDAR
VERSION:2.0
PRODID:-//lincolnikes.com//NONSGML kigkonsult.se iCalcreator 2.30.10//
CALSCALE:GREGORIAN
METHOD:PUBLISH
UID:149944cb-3922-4b7b-a45a-109faa5c1ebb
X-WR-CALDESC:Thursdays\, May 19th to September 1st\nFor more information\, 
 see attached flyer
X-WR-RELCALID:0d221783f35a64687f1cbfb743c4a61d
X-WR-TIMEZONE:America/Chicago
BEGIN:VTIMEZONE
TZID:America/Chicago
BEGIN:STANDARD
TZNAME:CST
DTSTART:20211107T020000
TZOFFSETFROM:-0500
TZOFFSETTO:-0600
RDATE:20221106T020000
RDATE:20231105T020000
END:STANDARD
BEGIN:DAYLIGHT
TZNAME:CDT
DTSTART:20220313T020000
TZOFFSETFROM:-0600
TZOFFSETTO:-0500
RDATE:20230312T020000
END:DAYLIGHT
END:VTIMEZONE
BEGIN:VEVENT
UID:d6342f4b-1944-40b8-9cf3-8c17cd37a687
DTSTAMP:20260422T073429Z
DESCRIPTION:Thursdays\, May 19th to September 1st\nFor more information\, s
 ee attached flyer
DTSTART;TZID=America/Chicago:20220825T180000
DTEND;TZID=America/Chicago:20220825T200000
LOCATION:Lincoln Ikes Rifle Range 4
SUMMARY:.22 Youth Silhouettes (Range 4)
END:VEVENT
END:VCALENDAR
