BEGIN:VCALENDAR
VERSION:2.0
PRODID:-//lincolnikes.com//NONSGML kigkonsult.se iCalcreator 2.30.10//
CALSCALE:GREGORIAN
METHOD:PUBLISH
UID:b0592fd7-5bed-4bf6-a990-5979b9674662
X-WR-CALDESC:
X-WR-RELCALID:c571eb8cb7982449c979cc8f157f3595
X-WR-TIMEZONE:America/Chicago
BEGIN:VTIMEZONE
TZID:America/Chicago
BEGIN:STANDARD
TZNAME:CST
DTSTART:20211107T020000
TZOFFSETFROM:-0500
TZOFFSETTO:-0600
RDATE:20221106T020000
RDATE:20231105T020000
END:STANDARD
BEGIN:DAYLIGHT
TZNAME:CDT
DTSTART:20220313T020000
TZOFFSETFROM:-0600
TZOFFSETTO:-0500
RDATE:20230312T020000
END:DAYLIGHT
END:VTIMEZONE
BEGIN:VEVENT
UID:896bb484-9a54-4ee8-a4b2-ed5ca58e0718
DTSTAMP:20260422T073646Z
DESCRIPTION:
DTSTART;TZID=America/Chicago:20220825T180000
DTEND;TZID=America/Chicago:20220825T220000
LOCATION:Lincoln Ikes Trap Range & Clubhouse
SUMMARY:Ikes Fall Trap League (All Traps & Clubhouse)
END:VEVENT
END:VCALENDAR
