BEGIN:VCALENDAR
VERSION:2.0
PRODID:-//lincolnikes.com//NONSGML kigkonsult.se iCalcreator 2.30.10//
CALSCALE:GREGORIAN
METHOD:PUBLISH
UID:35031df8-d533-4bf5-98b5-0bbc5ce1ecaa
X-WR-CALDESC:
X-WR-RELCALID:eb8cfbb341ded1f3b32f2445e38af3a7
X-WR-TIMEZONE:America/Chicago
BEGIN:VTIMEZONE
TZID:America/Chicago
BEGIN:STANDARD
TZNAME:CST
DTSTART:20211107T020000
TZOFFSETFROM:-0500
TZOFFSETTO:-0600
RDATE:20221106T020000
RDATE:20231105T020000
END:STANDARD
BEGIN:DAYLIGHT
TZNAME:CDT
DTSTART:20220313T020000
TZOFFSETFROM:-0600
TZOFFSETTO:-0500
RDATE:20230312T020000
END:DAYLIGHT
END:VTIMEZONE
BEGIN:VEVENT
UID:10ff5417-bbe9-423a-b117-5cc89ea16fc8
DTSTAMP:20260419T161444Z
DESCRIPTION:
DTSTART;TZID=America/Chicago:20220826T080000
DTEND;TZID=America/Chicago:20220826T170000
LOCATION:Lincoln Ikes Rifle Range 4
SUMMARY:NBRSA VFS Benchrest Setup & Pre-match Practice (Range 4) (Dewey)
END:VEVENT
END:VCALENDAR
