BEGIN:VCALENDAR
VERSION:2.0
PRODID:-//lincolnikes.com//NONSGML kigkonsult.se iCalcreator 2.30.10//
CALSCALE:GREGORIAN
METHOD:PUBLISH
UID:555d77ef-d070-4925-aeb1-b5260d54f854
X-WR-CALDESC:
X-WR-RELCALID:197714f1e9d8725d79515989543010e9
X-WR-TIMEZONE:America/Chicago
BEGIN:VTIMEZONE
TZID:America/Chicago
BEGIN:STANDARD
TZNAME:CST
DTSTART:20211107T020000
TZOFFSETFROM:-0500
TZOFFSETTO:-0600
RDATE:20221106T020000
RDATE:20231105T020000
END:STANDARD
BEGIN:DAYLIGHT
TZNAME:CDT
DTSTART:20220313T020000
TZOFFSETFROM:-0600
TZOFFSETTO:-0500
RDATE:20230312T020000
END:DAYLIGHT
END:VTIMEZONE
BEGIN:VEVENT
UID:88b9795d-978d-4af4-8275-da2b11b24a3f
DTSTAMP:20260421T110915Z
DESCRIPTION:
DTSTART;TZID=America/Chicago:20220827T080000
DTEND;TZID=America/Chicago:20220827T170000
LOCATION:Lincoln Ikes Rifle Range 4
SUMMARY:NBRSA VFS Benchrest Match (Range 4) (Dewey)
END:VEVENT
END:VCALENDAR
