BEGIN:VCALENDAR
VERSION:2.0
PRODID:-//lincolnikes.com//NONSGML kigkonsult.se iCalcreator 2.30.10//
CALSCALE:GREGORIAN
METHOD:PUBLISH
UID:ae51b5f5-6b75-4294-b7e4-af4cbe3fd787
X-WR-CALDESC:
X-WR-RELCALID:19fc2645a2e31c6786ad274f4c30c140
X-WR-TIMEZONE:America/Chicago
BEGIN:VTIMEZONE
TZID:America/Chicago
BEGIN:STANDARD
TZNAME:CST
DTSTART:20211107T020000
TZOFFSETFROM:-0500
TZOFFSETTO:-0600
RDATE:20221106T020000
RDATE:20231105T020000
END:STANDARD
BEGIN:DAYLIGHT
TZNAME:CDT
DTSTART:20220313T020000
TZOFFSETFROM:-0600
TZOFFSETTO:-0500
RDATE:20230312T020000
END:DAYLIGHT
END:VTIMEZONE
BEGIN:VEVENT
UID:f0fe4055-6d39-46f6-a0b7-a65499a2ccb6
DTSTAMP:20260422T073213Z
DESCRIPTION:
DTSTART;TZID=America/Chicago:20220827T070000
DTEND;TZID=America/Chicago:20220827T150000
LOCATION:Lincoln Ikes Rifle Range 1
SUMMARY:7a-3p: UML 2-Gun Competition (Range 1) (Zunaibi)
END:VEVENT
END:VCALENDAR
