BEGIN:VCALENDAR
VERSION:2.0
PRODID:-//lincolnikes.com//NONSGML kigkonsult.se iCalcreator 2.30.10//
CALSCALE:GREGORIAN
METHOD:PUBLISH
UID:e6ce95f4-fa8d-40b3-9843-bf5897b0738d
X-WR-CALDESC:
X-WR-RELCALID:5afc260a96e33efcf9893e8223f60d91
X-WR-TIMEZONE:America/Chicago
BEGIN:VTIMEZONE
TZID:America/Chicago
BEGIN:STANDARD
TZNAME:CST
DTSTART:20211107T020000
TZOFFSETFROM:-0500
TZOFFSETTO:-0600
RDATE:20221106T020000
RDATE:20231105T020000
END:STANDARD
BEGIN:DAYLIGHT
TZNAME:CDT
DTSTART:20220313T020000
TZOFFSETFROM:-0600
TZOFFSETTO:-0500
RDATE:20230312T020000
END:DAYLIGHT
END:VTIMEZONE
BEGIN:VEVENT
UID:5c88e201-e1c0-4cfd-b943-86492b96ed26
DTSTAMP:20260422T073054Z
DESCRIPTION:
DTSTART;TZID=America/Chicago:20220830T173000
DTEND;TZID=America/Chicago:20220830T200000
LOCATION:
SUMMARY:5:30-Sunset: Members 300-Yard Range Practice (Range 4 - Bertram)
END:VEVENT
END:VCALENDAR
