BEGIN:VCALENDAR
VERSION:2.0
PRODID:-//lincolnikes.com//NONSGML kigkonsult.se iCalcreator 2.30.10//
CALSCALE:GREGORIAN
METHOD:PUBLISH
UID:509f254d-7d09-4b3a-b79c-a9679f69f4de
X-WR-CALDESC:Thursdays\, May 19th to September 1st\nFor more information\, 
 see attached flyer
X-WR-RELCALID:6c10e0f8fafda9125bb1ce66a42183f8
X-WR-TIMEZONE:America/Chicago
BEGIN:VTIMEZONE
TZID:America/Chicago
BEGIN:STANDARD
TZNAME:CST
DTSTART:20211107T020000
TZOFFSETFROM:-0500
TZOFFSETTO:-0600
RDATE:20221106T020000
RDATE:20231105T020000
END:STANDARD
BEGIN:DAYLIGHT
TZNAME:CDT
DTSTART:20220313T020000
TZOFFSETFROM:-0600
TZOFFSETTO:-0500
RDATE:20230312T020000
END:DAYLIGHT
END:VTIMEZONE
BEGIN:VEVENT
UID:1fdf3a49-eb03-469d-9d85-fc42acc2311a
DTSTAMP:20260422T053954Z
DESCRIPTION:Thursdays\, May 19th to September 1st\nFor more information\, s
 ee attached flyer
DTSTART;TZID=America/Chicago:20220901T180000
DTEND;TZID=America/Chicago:20220901T200000
LOCATION:Lincoln Ikes Rifle Range 4
SUMMARY:.22 Youth Silhouettes (Range 4)
END:VEVENT
END:VCALENDAR
