BEGIN:VCALENDAR
VERSION:2.0
PRODID:-//lincolnikes.com//NONSGML kigkonsult.se iCalcreator 2.30.10//
CALSCALE:GREGORIAN
METHOD:PUBLISH
UID:8f31ec25-8c82-4b21-80f7-0374f6439b27
X-WR-CALDESC:
X-WR-RELCALID:fed543e149ee896925f38796ea5636f6
X-WR-TIMEZONE:America/Chicago
BEGIN:VTIMEZONE
TZID:America/Chicago
BEGIN:STANDARD
TZNAME:CST
DTSTART:20211107T020000
TZOFFSETFROM:-0500
TZOFFSETTO:-0600
RDATE:20221106T020000
RDATE:20231105T020000
END:STANDARD
BEGIN:DAYLIGHT
TZNAME:CDT
DTSTART:20220313T020000
TZOFFSETFROM:-0600
TZOFFSETTO:-0500
RDATE:20230312T020000
RDATE:20240310T020000
END:DAYLIGHT
END:VTIMEZONE
BEGIN:VEVENT
UID:96f668d8-6817-4c8c-8dd6-33158c81171a
DTSTAMP:20260422T054319Z
DESCRIPTION:
DTSTART;TZID=America/Chicago:20220910T120000
DTEND;TZID=America/Chicago:20220910T170000
LOCATION:Lincoln Ikes Rifle Range 4
SUMMARY:12:00 noon - Sunset: Bowling Pin Match (Range 4) (Bennett)
END:VEVENT
END:VCALENDAR
