BEGIN:VCALENDAR
VERSION:2.0
PRODID:-//lincolnikes.com//NONSGML kigkonsult.se iCalcreator 2.30.10//
CALSCALE:GREGORIAN
METHOD:PUBLISH
UID:810f8dd8-d4c0-4d26-b3df-eefda95e5cb9
X-WR-CALDESC:
X-WR-RELCALID:8cacc0a979cb926abaf90c272fae2a57
X-WR-TIMEZONE:America/Chicago
BEGIN:VTIMEZONE
TZID:America/Chicago
BEGIN:STANDARD
TZNAME:CST
DTSTART:20211107T020000
TZOFFSETFROM:-0500
TZOFFSETTO:-0600
RDATE:20221106T020000
RDATE:20231105T020000
END:STANDARD
BEGIN:DAYLIGHT
TZNAME:CDT
DTSTART:20220313T020000
TZOFFSETFROM:-0600
TZOFFSETTO:-0500
RDATE:20230312T020000
RDATE:20240310T020000
END:DAYLIGHT
END:VTIMEZONE
BEGIN:VEVENT
UID:d3605be0-9a21-4a71-86a5-d2b8a4884568
DTSTAMP:20260422T053948Z
DESCRIPTION:
DTSTART;TZID=America/Chicago:20220911T123000
DTEND;TZID=America/Chicago:20220911T170000
LOCATION:Lincoln Ikes Rifle Range 1
SUMMARY:Boy Scouts Rifle Merit Badge (Range 1) (Davis)
END:VEVENT
END:VCALENDAR
