BEGIN:VCALENDAR
VERSION:2.0
PRODID:-//lincolnikes.com//NONSGML kigkonsult.se iCalcreator 2.30.10//
CALSCALE:GREGORIAN
METHOD:PUBLISH
UID:213fce05-472b-44fa-87b7-44c98d6dd2c4
X-WR-CALDESC:Weather permitting. If we should have some inclement weather\,
  this practice time will be canceled. Feel free to call RSO Dewey to verif
 y.
X-WR-RELCALID:95e9e0f2d1f988cb4707867fc7caffda
X-WR-TIMEZONE:America/Chicago
BEGIN:VTIMEZONE
TZID:America/Chicago
BEGIN:STANDARD
TZNAME:CST
DTSTART:20211107T020000
TZOFFSETFROM:-0500
TZOFFSETTO:-0600
RDATE:20221106T020000
RDATE:20231105T020000
END:STANDARD
BEGIN:DAYLIGHT
TZNAME:CDT
DTSTART:20220313T020000
TZOFFSETFROM:-0600
TZOFFSETTO:-0500
RDATE:20230312T020000
RDATE:20240310T020000
END:DAYLIGHT
END:VTIMEZONE
BEGIN:VEVENT
UID:9cb8543f-8cb9-4685-8ca8-3dcf9f52ec4f
DTSTAMP:20260422T053825Z
DESCRIPTION:Weather permitting. If we should have some inclement weather\, 
 this practice time will be canceled. Feel free to call RSO Dewey to verify
 .
DTSTART;TZID=America/Chicago:20220913T090000
DTEND;TZID=America/Chicago:20220913T130000
LOCATION:300-Yard / Rifle Range 4
SUMMARY:Members 300-Yard Range Practice (Range 4 - Dewey)
END:VEVENT
END:VCALENDAR
