BEGIN:VCALENDAR
VERSION:2.0
PRODID:-//lincolnikes.com//NONSGML kigkonsult.se iCalcreator 2.30.10//
CALSCALE:GREGORIAN
METHOD:PUBLISH
UID:2bbbba10-6adb-4ba5-82ac-c8c14b240363
X-WR-CALDESC:
X-WR-RELCALID:4daf9b5028f93dc52cfeb9eaf1ba249b
X-WR-TIMEZONE:America/Chicago
BEGIN:VTIMEZONE
TZID:America/Chicago
BEGIN:STANDARD
TZNAME:CST
DTSTART:20211107T020000
TZOFFSETFROM:-0500
TZOFFSETTO:-0600
RDATE:20221106T020000
RDATE:20231105T020000
END:STANDARD
BEGIN:DAYLIGHT
TZNAME:CDT
DTSTART:20220313T020000
TZOFFSETFROM:-0600
TZOFFSETTO:-0500
RDATE:20230312T020000
RDATE:20240310T020000
END:DAYLIGHT
END:VTIMEZONE
BEGIN:VEVENT
UID:aaae92e6-3a89-4898-865e-d566b81bf1d6
DTSTAMP:20260419T223911Z
DESCRIPTION:
DTSTART;TZID=America/Chicago:20220915T080000
DTEND;TZID=America/Chicago:20220915T160000
LOCATION:
SUMMARY:NE State IHMSA Shoot (Range 4) (TeSelle)
END:VEVENT
END:VCALENDAR
