BEGIN:VCALENDAR
VERSION:2.0
PRODID:-//lincolnikes.com//NONSGML kigkonsult.se iCalcreator 2.30.10//
CALSCALE:GREGORIAN
METHOD:PUBLISH
UID:186327a5-d34e-4609-aed3-b8ceb1fa2e36
X-WR-CALDESC:
X-WR-RELCALID:3032425372e0564bf1a6b14fecb8abb6
X-WR-TIMEZONE:America/Chicago
BEGIN:VTIMEZONE
TZID:America/Chicago
BEGIN:STANDARD
TZNAME:CST
DTSTART:20211107T020000
TZOFFSETFROM:-0500
TZOFFSETTO:-0600
RDATE:20221106T020000
RDATE:20231105T020000
END:STANDARD
BEGIN:DAYLIGHT
TZNAME:CDT
DTSTART:20220313T020000
TZOFFSETFROM:-0600
TZOFFSETTO:-0500
RDATE:20230312T020000
RDATE:20240310T020000
END:DAYLIGHT
END:VTIMEZONE
BEGIN:VEVENT
UID:0409e9fe-ad9b-40a5-bc6c-b3d1b656df4b
DTSTAMP:20260422T053947Z
DESCRIPTION:
DTSTART;TZID=America/Chicago:20220916T080000
DTEND;TZID=America/Chicago:20220916T160000
LOCATION:
SUMMARY:NE State IHMSA Shoot (Range 4) (TeSelle)
END:VEVENT
END:VCALENDAR
