BEGIN:VCALENDAR
VERSION:2.0
PRODID:-//lincolnikes.com//NONSGML kigkonsult.se iCalcreator 2.30.10//
CALSCALE:GREGORIAN
METHOD:PUBLISH
UID:1aea29da-5226-40c8-9e76-2e4b98e57050
X-WR-CALDESC:Our Clubhouse Office will be open during this time. If you hav
 e any questions or concerns\, please contact us at 402.474.6555 or ikes.li
 ncoln@gmail.com
X-WR-RELCALID:09e0863865ee9f67e3e41a642b6f2ae2
X-WR-TIMEZONE:America/Chicago
BEGIN:VTIMEZONE
TZID:America/Chicago
BEGIN:STANDARD
TZNAME:CST
DTSTART:20211107T020000
TZOFFSETFROM:-0500
TZOFFSETTO:-0600
RDATE:20221106T020000
RDATE:20231105T020000
END:STANDARD
BEGIN:DAYLIGHT
TZNAME:CDT
DTSTART:20220313T020000
TZOFFSETFROM:-0600
TZOFFSETTO:-0500
RDATE:20230312T020000
RDATE:20240310T020000
END:DAYLIGHT
END:VTIMEZONE
BEGIN:VEVENT
UID:1e0e406e-f272-43ff-b0f1-3de01734b726
DTSTAMP:20260422T054145Z
DESCRIPTION:Our Clubhouse Office will be open during this time. If you have
  any questions or concerns\, please contact us at 402.474.6555 or ikes.lin
 coln@gmail.com
DTSTART;TZID=America/Chicago:20220921T130000
DTEND;TZID=America/Chicago:20220921T170000
LOCATION:
SUMMARY:Clubhouse Office Open
END:VEVENT
END:VCALENDAR
