BEGIN:VCALENDAR
VERSION:2.0
PRODID:-//lincolnikes.com//NONSGML kigkonsult.se iCalcreator 2.30.10//
CALSCALE:GREGORIAN
METHOD:PUBLISH
UID:baa0d346-e4a3-4fe6-b676-892dd90c9f0d
X-WR-CALDESC:Our Clubhouse Office will be open during this time. If you hav
 e any questions or concerns\, please contact us at 402.474.6555 or ikes.li
 ncoln@gmail.com
X-WR-RELCALID:1c7b709cd4689730a06bbd9ef7d7f9d5
X-WR-TIMEZONE:America/Chicago
BEGIN:VTIMEZONE
TZID:America/Chicago
BEGIN:STANDARD
TZNAME:CST
DTSTART:20211107T020000
TZOFFSETFROM:-0500
TZOFFSETTO:-0600
RDATE:20221106T020000
RDATE:20231105T020000
END:STANDARD
BEGIN:DAYLIGHT
TZNAME:CDT
DTSTART:20220313T020000
TZOFFSETFROM:-0600
TZOFFSETTO:-0500
RDATE:20230312T020000
RDATE:20240310T020000
END:DAYLIGHT
END:VTIMEZONE
BEGIN:VEVENT
UID:c7079b29-3693-4a3f-b136-86d8b044c4c3
DTSTAMP:20260422T054203Z
DESCRIPTION:Our Clubhouse Office will be open during this time. If you have
  any questions or concerns\, please contact us at 402.474.6555 or ikes.lin
 coln@gmail.com
DTSTART;TZID=America/Chicago:20220926T130000
DTEND;TZID=America/Chicago:20220926T170000
LOCATION:
SUMMARY:Clubhouse Office Open
END:VEVENT
END:VCALENDAR
