BEGIN:VCALENDAR
VERSION:2.0
PRODID:-//lincolnikes.com//NONSGML kigkonsult.se iCalcreator 2.30.10//
CALSCALE:GREGORIAN
METHOD:PUBLISH
UID:c7979ca4-6baf-4bf3-b808-12ee2f2fc15d
X-WR-CALDESC:
X-WR-RELCALID:f9af44caba2013642e7a285c69688742
X-WR-TIMEZONE:America/Chicago
BEGIN:VTIMEZONE
TZID:America/Chicago
BEGIN:STANDARD
TZNAME:CST
DTSTART:20211107T020000
TZOFFSETFROM:-0500
TZOFFSETTO:-0600
RDATE:20221106T020000
RDATE:20231105T020000
END:STANDARD
BEGIN:DAYLIGHT
TZNAME:CDT
DTSTART:20220313T020000
TZOFFSETFROM:-0600
TZOFFSETTO:-0500
RDATE:20230312T020000
RDATE:20240310T020000
END:DAYLIGHT
END:VTIMEZONE
BEGIN:VEVENT
UID:5a1af09d-e938-4d1f-be85-da6308621ecc
DTSTAMP:20260422T054556Z
DESCRIPTION:
DTSTART;TZID=America/Chicago:20220927T180000
DTEND;TZID=America/Chicago:20220927T220000
LOCATION:Lincoln Ikes Clubhouse
SUMMARY:Ikes Summer Trap League Awards Banquet (Clubhouse)
END:VEVENT
END:VCALENDAR
