BEGIN:VCALENDAR
VERSION:2.0
PRODID:-//lincolnikes.com//NONSGML kigkonsult.se iCalcreator 2.30.10//
CALSCALE:GREGORIAN
METHOD:PUBLISH
UID:cdab4249-608e-40e9-83db-0767f4a90fc1
X-WR-CALDESC:
X-WR-RELCALID:ea80b5f3aa246c425cef02445a218c61
X-WR-TIMEZONE:America/Chicago
BEGIN:VTIMEZONE
TZID:America/Chicago
BEGIN:STANDARD
TZNAME:CST
DTSTART:20211107T020000
TZOFFSETFROM:-0500
TZOFFSETTO:-0600
RDATE:20221106T020000
RDATE:20231105T020000
END:STANDARD
BEGIN:DAYLIGHT
TZNAME:CDT
DTSTART:20220313T020000
TZOFFSETFROM:-0600
TZOFFSETTO:-0500
RDATE:20230312T020000
RDATE:20240310T020000
END:DAYLIGHT
END:VTIMEZONE
BEGIN:VEVENT
UID:5d101a61-54f2-4da4-94f9-5cad90ab2a9d
DTSTAMP:20260419T142451Z
DESCRIPTION:
DTSTART;TZID=America/Chicago:20220929T180000
DTEND;TZID=America/Chicago:20220929T220000
LOCATION:Lincoln Ikes Trap Range & Clubhouse
SUMMARY:Ikes Fall Trap League (All Traps & Clubhouse)
END:VEVENT
END:VCALENDAR
