BEGIN:VCALENDAR
VERSION:2.0
PRODID:-//lincolnikes.com//NONSGML kigkonsult.se iCalcreator 2.30.10//
CALSCALE:GREGORIAN
METHOD:PUBLISH
UID:2821f3a2-a4ca-4bd6-ad8e-ecfb918cd6ca
X-WR-CALDESC:
X-WR-RELCALID:03aa96b7a8a77eee403ce14a950a0f01
X-WR-TIMEZONE:America/Chicago
BEGIN:VTIMEZONE
TZID:America/Chicago
BEGIN:STANDARD
TZNAME:CST
DTSTART:20211107T020000
TZOFFSETFROM:-0500
TZOFFSETTO:-0600
RDATE:20221106T020000
RDATE:20231105T020000
END:STANDARD
BEGIN:DAYLIGHT
TZNAME:CDT
DTSTART:20220313T020000
TZOFFSETFROM:-0600
TZOFFSETTO:-0500
RDATE:20230312T020000
RDATE:20240310T020000
END:DAYLIGHT
END:VTIMEZONE
BEGIN:VEVENT
UID:bc5240e6-78de-4a1c-84eb-317befbc8a16
DTSTAMP:20260422T034953Z
DESCRIPTION:
DTSTART;TZID=America/Chicago:20221002T070000
DTEND;TZID=America/Chicago:20221002T173000
LOCATION:Lincoln Ikes Rifle Range 1
SUMMARY:Project Appleseed (Range 1)
END:VEVENT
END:VCALENDAR
