BEGIN:VCALENDAR
VERSION:2.0
PRODID:-//lincolnikes.com//NONSGML kigkonsult.se iCalcreator 2.30.10//
CALSCALE:GREGORIAN
METHOD:PUBLISH
UID:f4fda0fc-5076-4485-8dc5-0289691c63f2
X-WR-CALDESC:Please register for any Hunter Education program through the N
 ebraska Game & Parks website at: https://www.register-ed.com/programs/nebr
 aska/156
X-WR-RELCALID:299cc977c3e7b1e6e1a0d90f6a5a8aa5
X-WR-TIMEZONE:America/Chicago
BEGIN:VTIMEZONE
TZID:America/Chicago
BEGIN:STANDARD
TZNAME:CST
DTSTART:20211107T020000
TZOFFSETFROM:-0500
TZOFFSETTO:-0600
RDATE:20221106T020000
RDATE:20231105T020000
END:STANDARD
BEGIN:DAYLIGHT
TZNAME:CDT
DTSTART:20220313T020000
TZOFFSETFROM:-0600
TZOFFSETTO:-0500
RDATE:20230312T020000
RDATE:20240310T020000
END:DAYLIGHT
END:VTIMEZONE
BEGIN:VEVENT
UID:f058e0af-7029-40da-a37e-61f2b7a75046
DTSTAMP:20260422T041012Z
DESCRIPTION:Please register for any Hunter Education program through the Ne
 braska Game & Parks website at: https://www.register-ed.com/programs/nebra
 ska/156
DTSTART;TZID=America/Chicago:20221003T180000
DTEND;TZID=America/Chicago:20221003T210000
LOCATION:10801 South 134th Street\, Bennet\, NE 68317 US
SUMMARY:Firearm Hunter Education (Clubhhouse)
END:VEVENT
END:VCALENDAR
