BEGIN:VCALENDAR
VERSION:2.0
PRODID:-//lincolnikes.com//NONSGML kigkonsult.se iCalcreator 2.30.10//
CALSCALE:GREGORIAN
METHOD:PUBLISH
UID:1cef94c5-5bec-4463-a368-8aa7df8e3d81
X-WR-CALDESC:
X-WR-RELCALID:e664f54cf9b88bfbc12f42a45c1ab509
X-WR-TIMEZONE:America/Chicago
BEGIN:VTIMEZONE
TZID:America/Chicago
BEGIN:STANDARD
TZNAME:CST
DTSTART:20211107T020000
TZOFFSETFROM:-0500
TZOFFSETTO:-0600
RDATE:20221106T020000
RDATE:20231105T020000
END:STANDARD
BEGIN:DAYLIGHT
TZNAME:CDT
DTSTART:20220313T020000
TZOFFSETFROM:-0600
TZOFFSETTO:-0500
RDATE:20230312T020000
RDATE:20240310T020000
END:DAYLIGHT
END:VTIMEZONE
BEGIN:VEVENT
UID:0305fb56-d97c-4f3c-b25c-3f2dcb22c103
DTSTAMP:20260421T030313Z
DESCRIPTION:
DTSTART;TZID=America/Chicago:20221008T120000
DTEND;TZID=America/Chicago:20221008T170000
LOCATION:Lincoln Ikes Rifle Range 4
SUMMARY:12:00 noon - Sunset: Bowling Pin Match (Range 4) (Bennett)
END:VEVENT
END:VCALENDAR
