BEGIN:VCALENDAR
VERSION:2.0
PRODID:-//lincolnikes.com//NONSGML kigkonsult.se iCalcreator 2.30.10//
CALSCALE:GREGORIAN
METHOD:PUBLISH
UID:e943201f-0d67-47e0-9d01-b30e153ebd98
X-WR-CALDESC:
X-WR-RELCALID:105a8aa3fec24e93872854a6183e4b7c
X-WR-TIMEZONE:America/Chicago
BEGIN:VTIMEZONE
TZID:America/Chicago
BEGIN:STANDARD
TZNAME:CST
DTSTART:20211107T020000
TZOFFSETFROM:-0500
TZOFFSETTO:-0600
RDATE:20221106T020000
RDATE:20231105T020000
END:STANDARD
BEGIN:DAYLIGHT
TZNAME:CDT
DTSTART:20220313T020000
TZOFFSETFROM:-0600
TZOFFSETTO:-0500
RDATE:20230312T020000
RDATE:20240310T020000
END:DAYLIGHT
END:VTIMEZONE
BEGIN:VEVENT
UID:9cdd35b5-001c-4ede-ba71-dd2c04c358e0
DTSTAMP:20260422T041608Z
DESCRIPTION:
DTSTART;TZID=America/Chicago:20221013T180000
DTEND;TZID=America/Chicago:20221013T220000
LOCATION:Lincoln Ikes Trap Range & Clubhouse
SUMMARY:Ikes Fall Trap League (All Traps & Clubhouse)
END:VEVENT
END:VCALENDAR
