BEGIN:VCALENDAR
VERSION:2.0
PRODID:-//lincolnikes.com//NONSGML kigkonsult.se iCalcreator 2.30.10//
CALSCALE:GREGORIAN
METHOD:PUBLISH
UID:906f3ce7-b245-4419-af01-93840a002177
X-WR-CALDESC:
X-WR-RELCALID:8a261cf37a90799a317e1484ac38bd2c
X-WR-TIMEZONE:America/Chicago
BEGIN:VTIMEZONE
TZID:America/Chicago
BEGIN:STANDARD
TZNAME:CST
DTSTART:20211107T020000
TZOFFSETFROM:-0500
TZOFFSETTO:-0600
RDATE:20221106T020000
RDATE:20231105T020000
END:STANDARD
BEGIN:DAYLIGHT
TZNAME:CDT
DTSTART:20220313T020000
TZOFFSETFROM:-0600
TZOFFSETTO:-0500
RDATE:20230312T020000
RDATE:20240310T020000
END:DAYLIGHT
END:VTIMEZONE
BEGIN:VEVENT
UID:31b7cea1-2e2f-4a79-bfe5-1bdba45f7a5b
DTSTAMP:20260422T041319Z
DESCRIPTION:
DTSTART;TZID=America/Chicago:20221016T080000
DTEND;TZID=America/Chicago:20221016T160000
LOCATION:
SUMMARY:8a-1p: IHMSA Handgun (Range 4) (Mundorf)
END:VEVENT
END:VCALENDAR
