BEGIN:VCALENDAR
VERSION:2.0
PRODID:-//lincolnikes.com//NONSGML kigkonsult.se iCalcreator 2.30.10//
CALSCALE:GREGORIAN
METHOD:PUBLISH
UID:2f32f601-01de-4c62-8d05-322dc047cc1e
X-WR-CALDESC:Please register for any Hunter Education program through the N
 ebraska Game & Parks website at: https://www.register-ed.com/programs/nebr
 aska/156
X-WR-RELCALID:5a8c0968c6ed9d984d46b25078f2409a
X-WR-TIMEZONE:America/Chicago
BEGIN:VTIMEZONE
TZID:America/Chicago
BEGIN:STANDARD
TZNAME:CST
DTSTART:20211107T020000
TZOFFSETFROM:-0500
TZOFFSETTO:-0600
RDATE:20221106T020000
RDATE:20231105T020000
END:STANDARD
BEGIN:DAYLIGHT
TZNAME:CDT
DTSTART:20220313T020000
TZOFFSETFROM:-0600
TZOFFSETTO:-0500
RDATE:20230312T020000
RDATE:20240310T020000
END:DAYLIGHT
END:VTIMEZONE
BEGIN:VEVENT
UID:87020627-4cfc-434d-b275-da680b207998
DTSTAMP:20260422T023248Z
DESCRIPTION:Please register for any Hunter Education program through the Ne
 braska Game & Parks website at: https://www.register-ed.com/programs/nebra
 ska/156
DTSTART;TZID=America/Chicago:20221102T183000
DTEND;TZID=America/Chicago:20221102T210000
LOCATION:10801 South 134th Street\, Bennet\, NE 68317 US
SUMMARY:Firearm Hunter Education (Clubhhouse)
END:VEVENT
END:VCALENDAR
