BEGIN:VCALENDAR
VERSION:2.0
PRODID:-//lincolnikes.com//NONSGML kigkonsult.se iCalcreator 2.30.10//
CALSCALE:GREGORIAN
METHOD:PUBLISH
UID:38a82a08-2d9c-41e8-88be-676494e8f119
X-WR-CALDESC:
X-WR-RELCALID:ba7eea2719d87f902c92368f8e753cc7
X-WR-TIMEZONE:America/Chicago
BEGIN:VTIMEZONE
TZID:America/Chicago
BEGIN:STANDARD
TZNAME:CST
DTSTART:20211107T020000
TZOFFSETFROM:-0500
TZOFFSETTO:-0600
RDATE:20221106T020000
RDATE:20231105T020000
END:STANDARD
BEGIN:DAYLIGHT
TZNAME:CDT
DTSTART:20220313T020000
TZOFFSETFROM:-0600
TZOFFSETTO:-0500
RDATE:20230312T020000
RDATE:20240310T020000
END:DAYLIGHT
END:VTIMEZONE
BEGIN:VEVENT
UID:75f81bcf-3b05-4bb3-bdf1-d1223babb8db
DTSTAMP:20260422T024240Z
DESCRIPTION:
DTSTART;TZID=America/Chicago:20221105T080000
DTEND;TZID=America/Chicago:20221105T140000
LOCATION:
SUMMARY:Club Benchrest 300-Yard (Range 4) (Dewey)
END:VEVENT
END:VCALENDAR
