BEGIN:VCALENDAR
VERSION:2.0
PRODID:-//lincolnikes.com//NONSGML kigkonsult.se iCalcreator 2.30.10//
CALSCALE:GREGORIAN
METHOD:PUBLISH
UID:91f19d8c-9fa9-4d03-af04-0025586f8861
X-WR-CALDESC:Weather permitting. If we should have some inclement weather\,
  this practice time will be canceled. Feel free to call RSO Sumner to veri
 fy.
X-WR-RELCALID:51bc3a6cf33019b92d914851de8bad0e
X-WR-TIMEZONE:America/Chicago
BEGIN:VTIMEZONE
TZID:America/Chicago
BEGIN:STANDARD
TZNAME:CST
DTSTART:20221106T020000
TZOFFSETFROM:-0500
TZOFFSETTO:-0600
RDATE:20231105T020000
END:STANDARD
BEGIN:DAYLIGHT
TZNAME:CDT
DTSTART:20220313T020000
TZOFFSETFROM:-0600
TZOFFSETTO:-0500
RDATE:20230312T020000
RDATE:20240310T020000
END:DAYLIGHT
END:VTIMEZONE
BEGIN:VEVENT
UID:91a9195a-3508-419d-bd7a-d9b0019c5807
DTSTAMP:20260422T024451Z
DESCRIPTION:Weather permitting. If we should have some inclement weather\, 
 this practice time will be canceled. Feel free to call RSO Sumner to verif
 y.
DTSTART;TZID=America/Chicago:20221117T143000
DTEND;TZID=America/Chicago:20221117T170000
LOCATION:300-Yard / Rifle Range 4
SUMMARY:Members 300-Yard Range Practice (Range 4 - Sumner)
END:VEVENT
END:VCALENDAR
