BEGIN:VCALENDAR
VERSION:2.0
PRODID:-//lincolnikes.com//NONSGML kigkonsult.se iCalcreator 2.30.10//
CALSCALE:GREGORIAN
METHOD:PUBLISH
UID:764d3d6a-7e9c-4d82-a2bd-40ae0e6e28b7
X-WR-CALDESC:
X-WR-RELCALID:e159b1ffc7c6c2d81b376a3209f0139c
X-WR-TIMEZONE:America/Chicago
BEGIN:VTIMEZONE
TZID:America/Chicago
BEGIN:STANDARD
TZNAME:CST
DTSTART:20221106T020000
TZOFFSETFROM:-0500
TZOFFSETTO:-0600
RDATE:20231105T020000
END:STANDARD
BEGIN:DAYLIGHT
TZNAME:CDT
DTSTART:20220313T020000
TZOFFSETFROM:-0600
TZOFFSETTO:-0500
RDATE:20230312T020000
RDATE:20240310T020000
END:DAYLIGHT
END:VTIMEZONE
BEGIN:VEVENT
UID:0dde11e7-a2de-440c-8587-6b894af9f314
DTSTAMP:20260422T022058Z
DESCRIPTION:
DTSTART;TZID=America/Chicago:20221126T070000
DTEND;TZID=America/Chicago:20221126T140000
LOCATION:Lincoln Ikes Rifle Ranges 1 & 4
SUMMARY:7a-3p: UML 2-Gun Competition (Ranges 1 & 4) (Zunaibi)
END:VEVENT
END:VCALENDAR
