BEGIN:VCALENDAR
VERSION:2.0
PRODID:-//lincolnikes.com//NONSGML kigkonsult.se iCalcreator 2.30.10//
CALSCALE:GREGORIAN
METHOD:PUBLISH
UID:c9cd9264-69d6-4d32-8a26-829d1b2d5a6f
X-WR-CALDESC:
X-WR-RELCALID:06b89d3a91d3e2b981c8347257cbe4c0
X-WR-TIMEZONE:America/Chicago
BEGIN:VTIMEZONE
TZID:America/Chicago
BEGIN:STANDARD
TZNAME:CST
DTSTART:20221106T020000
TZOFFSETFROM:-0500
TZOFFSETTO:-0600
RDATE:20231105T020000
END:STANDARD
BEGIN:DAYLIGHT
TZNAME:CDT
DTSTART:20220313T020000
TZOFFSETFROM:-0600
TZOFFSETTO:-0500
RDATE:20230312T020000
RDATE:20240310T020000
END:DAYLIGHT
END:VTIMEZONE
BEGIN:VEVENT
UID:635a2b5e-dcb4-4ba5-8a3b-25e33a6c89bb
DTSTAMP:20260422T024558Z
DESCRIPTION:
DTSTART;TZID=America/Chicago:20221130T190000
DTEND;TZID=America/Chicago:20221130T200000
LOCATION:
SUMMARY:Rifle/Pistol Committee Meeting (Clubhouse)
END:VEVENT
END:VCALENDAR
