BEGIN:VCALENDAR
VERSION:2.0
PRODID:-//lincolnikes.com//NONSGML kigkonsult.se iCalcreator 2.30.10//
CALSCALE:GREGORIAN
METHOD:PUBLISH
UID:a2360f02-ff46-4bf8-9e4f-20a28c04a4e2
X-WR-CALDESC:Rifle Range 2 (100-Yard) will be closed all day for maintenanc
 e.
X-WR-RELCALID:f4aa9579ba373e9c27610a7bd5c7c916
X-WR-TIMEZONE:America/Chicago
BEGIN:VTIMEZONE
TZID:America/Chicago
BEGIN:STANDARD
TZNAME:CST
DTSTART:20221106T020000
TZOFFSETFROM:-0500
TZOFFSETTO:-0600
RDATE:20231105T020000
END:STANDARD
BEGIN:DAYLIGHT
TZNAME:CDT
DTSTART:20220313T020000
TZOFFSETFROM:-0600
TZOFFSETTO:-0500
RDATE:20230312T020000
RDATE:20240310T020000
END:DAYLIGHT
END:VTIMEZONE
BEGIN:VEVENT
UID:bffbf437-9ea6-4924-9cb2-74a88629481c
DTSTAMP:20260422T034814Z
DESCRIPTION:Rifle Range 2 (100-Yard) will be closed all day for maintenance
 .
DTSTART;TZID=America/Chicago:20221202T000000
DTEND;TZID=America/Chicago:20221202T235900
LOCATION:
SUMMARY:RIFLE RANGE 2 CLOSED FOR MAINTENANCE
END:VEVENT
END:VCALENDAR
