BEGIN:VCALENDAR
VERSION:2.0
PRODID:-//lincolnikes.com//NONSGML kigkonsult.se iCalcreator 2.30.10//
CALSCALE:GREGORIAN
METHOD:PUBLISH
UID:ecd95693-64a9-42f8-8910-a9e7161398e7
X-WR-CALDESC:
X-WR-RELCALID:347acc1ee7f6eabb8e107c709e4fd154
X-WR-TIMEZONE:America/Chicago
BEGIN:VTIMEZONE
TZID:America/Chicago
BEGIN:STANDARD
TZNAME:CST
DTSTART:20221106T020000
TZOFFSETFROM:-0500
TZOFFSETTO:-0600
RDATE:20231105T020000
END:STANDARD
BEGIN:DAYLIGHT
TZNAME:CDT
DTSTART:20220313T020000
TZOFFSETFROM:-0600
TZOFFSETTO:-0500
RDATE:20230312T020000
RDATE:20240310T020000
END:DAYLIGHT
END:VTIMEZONE
BEGIN:VEVENT
UID:a941ca0a-ce6f-4c53-86a0-4179b4d24911
DTSTAMP:20260422T041211Z
DESCRIPTION:
DTSTART;TZID=America/Chicago:20221203T080000
DTEND;TZID=America/Chicago:20221203T140000
LOCATION:
SUMMARY:Club Benchrest 300-Yard (Range 4) (Dewey)
END:VEVENT
END:VCALENDAR
