BEGIN:VCALENDAR
VERSION:2.0
PRODID:-//lincolnikes.com//NONSGML kigkonsult.se iCalcreator 2.30.10//
CALSCALE:GREGORIAN
METHOD:PUBLISH
UID:71ada44b-14a9-4c63-a3a1-3f5d873412c6
X-WR-CALDESC:Our Clubhouse Office will be open during this time. If you hav
 e any questions or concerns\, please contact us at 402.474.6555 or ikes.li
 ncoln@gmail.com
X-WR-RELCALID:c606a77bf9c441e1335b776d2bf8e07d
X-WR-TIMEZONE:America/Chicago
BEGIN:VTIMEZONE
TZID:America/Chicago
BEGIN:STANDARD
TZNAME:CST
DTSTART:20221106T020000
TZOFFSETFROM:-0500
TZOFFSETTO:-0600
RDATE:20231105T020000
END:STANDARD
BEGIN:DAYLIGHT
TZNAME:CDT
DTSTART:20220313T020000
TZOFFSETFROM:-0600
TZOFFSETTO:-0500
RDATE:20230312T020000
RDATE:20240310T020000
END:DAYLIGHT
END:VTIMEZONE
BEGIN:VEVENT
UID:4ff850b6-cb6a-474c-aaf7-1603bf13212b
DTSTAMP:20260422T041355Z
DESCRIPTION:Our Clubhouse Office will be open during this time. If you have
  any questions or concerns\, please contact us at 402.474.6555 or ikes.lin
 coln@gmail.com
DTSTART;TZID=America/Chicago:20221205T100000
DTEND;TZID=America/Chicago:20221205T140000
LOCATION:
SUMMARY:Clubhouse Office Open
END:VEVENT
END:VCALENDAR
